BEGIN:VCALENDAR
VERSION:2.0
PRODID:-//hacksw/handcal//NONSGML v1.0//EN
BEGIN:VEVENT
SUMMARY:U18M1
UID:d3da748c-0db5-4ce4-a5d3-9b3763ebc681
DTSTART:20260306T230000Z
DTEND:20260307T230000Z
LOCATION:Localisation SALLE DES SPORTS ( VERTE )  
CATEGORIES:Sportif
STATUS:
URL;VALUE=URI:https://www.asveabasket.com/evenements/2026/03/07/u18m1-2423464
END:VEVENT
END:VCALENDAR
